BEGIN:VCALENDAR
VERSION:2.0
PRODID:www.h-fr.ch
BEGIN:VEVENT
UID:69e60d44b9e90
DTSTART:20250318T090000Z
SEQUENCE:0
TRANSP:OPAQUE
DTEND:20250318T170000Z
SUMMARY:Journée dédiée à l’endométriose - Stand d’information
CLASS:PUBLIC
DTSTAMP:20260420T132556Z
END:VEVENT
END:VCALENDAR