BEGIN:VCALENDAR
VERSION:2.0
PRODID:www.h-fr.ch
BEGIN:VEVENT
UID:69e523959ee54
DTSTART:20250331T180000Z
SEQUENCE:0
TRANSP:OPAQUE
DTEND:20250331T190000Z
SUMMARY:Douleurs de hanches chez les jeunes adultes : lorsque l’articula
 tion crie à l’aide !
CLASS:PUBLIC
DTSTAMP:20260419T204853Z
END:VEVENT
END:VCALENDAR