BEGIN:VCALENDAR
VERSION:2.0
PRODID:www.h-fr.ch
BEGIN:VEVENT
UID:69eb60cf43657
DTSTART:20221217T090000Z
SEQUENCE:0
TRANSP:OPAQUE
DTEND:20221217T180000Z
SUMMARY:Préparer la naissance de votre premier enfant (1 journée)
CLASS:PUBLIC
DTSTAMP:20260424T142343Z
END:VEVENT
END:VCALENDAR