BEGIN:VCALENDAR
VERSION:2.0
PRODID:www.h-fr.ch
BEGIN:VEVENT
UID:69e73822e73ec
DTSTART:20250512T071500Z
SEQUENCE:0
TRANSP:OPAQUE
DTEND:20250512T081500Z
SUMMARY:Formation postgraduée et continue spécifique en anesthésiologie
CLASS:PUBLIC
DTSTAMP:20260421T104106Z
END:VEVENT
END:VCALENDAR