BEGIN:VCALENDAR
VERSION:2.0
PRODID:www.h-fr.ch
BEGIN:VEVENT
UID:69e60090ee17e
DTSTART:20220826T130000Z
SEQUENCE:0
TRANSP:OPAQUE
DTEND:20220826T200000Z
SUMMARY:On the road again : l’HFR à la rencontre de la population > Romo
 nt
CLASS:PUBLIC
DTSTAMP:20260420T123144Z
END:VEVENT
END:VCALENDAR