BEGIN:VCALENDAR
VERSION:2.0
PRODID:www.h-fr.ch
BEGIN:VEVENT
UID:69eb485239ffe
DTSTART:20220901T080000Z
SEQUENCE:0
TRANSP:OPAQUE
DTEND:20220901T120000Z
SUMMARY:On the road again : l’HFR à la rencontre de la population > Bull
 e
CLASS:PUBLIC
DTSTAMP:20260424T123914Z
END:VEVENT
END:VCALENDAR