BEGIN:VCALENDAR
VERSION:2.0
PRODID:www.h-fr.ch
BEGIN:VEVENT
UID:69eb485ae8245
DTSTART:20220916T130000Z
SEQUENCE:0
TRANSP:OPAQUE
DTEND:20220916T200000Z
SUMMARY:On the road again : l’HFR à la rencontre de la population > Guin
CLASS:PUBLIC
DTSTAMP:20260424T123922Z
END:VEVENT
END:VCALENDAR