BEGIN:VCALENDAR
VERSION:2.0
PRODID:www.h-fr.ch
BEGIN:VEVENT
UID:69e525412e465
DTSTART:20220923T130000Z
SEQUENCE:0
TRANSP:OPAQUE
DTEND:20220923T180000Z
SUMMARY:On the road again : l’HFR à la rencontre de la population > Esta
 vayer-le-Lac
CLASS:PUBLIC
DTSTAMP:20260419T205601Z
END:VEVENT
END:VCALENDAR