BEGIN:VCALENDAR
VERSION:2.0
PRODID:www.h-fr.ch
BEGIN:VEVENT
UID:69e526391ccf1
DTSTART:20220930T130000Z
SEQUENCE:0
TRANSP:OPAQUE
DTEND:20220930T190000Z
SUMMARY:On the road again : l’HFR à la rencontre de la population > Châ
 tel-St-Denis
CLASS:PUBLIC
DTSTAMP:20260419T210009Z
END:VEVENT
END:VCALENDAR