BEGIN:VCALENDAR
VERSION:2.0
PRODID:www.h-fr.ch
BEGIN:VEVENT
UID:69e524eb0d440
DTSTART:20221007T130000Z
SEQUENCE:0
TRANSP:OPAQUE
DTEND:20221007T190000Z
SUMMARY:On the road again : l’HFR à la rencontre de la population > Vill
 ars-sur-Glâne
CLASS:PUBLIC
DTSTAMP:20260419T205435Z
END:VEVENT
END:VCALENDAR