BEGIN:VCALENDAR
VERSION:2.0
PRODID:www.h-fr.ch
BEGIN:VEVENT
UID:69eb488f7b22b
DTSTART:20221019T080000Z
SEQUENCE:0
TRANSP:OPAQUE
DTEND:20221019T170000Z
SUMMARY:On the road again : l’HFR à la rencontre de la population > Plan
 fayon
CLASS:PUBLIC
DTSTAMP:20260424T124015Z
END:VEVENT
END:VCALENDAR