BEGIN:VCALENDAR
VERSION:2.0
PRODID:www.h-fr.ch
BEGIN:VEVENT
UID:69eb48346001e
DTSTART:20220914T183000Z
SEQUENCE:0
TRANSP:OPAQUE
DTEND:20220914T193000Z
SUMMARY:L’HFR en route vers l’avenir > Fribourg
CLASS:PUBLIC
DTSTAMP:20260424T123844Z
END:VEVENT
END:VCALENDAR