BEGIN:VCALENDAR
VERSION:2.0
PRODID:www.h-fr.ch
BEGIN:VEVENT
UID:69e4b1a285504
DTSTART:20220915T183000Z
SEQUENCE:0
TRANSP:OPAQUE
DTEND:20220915T193000Z
SUMMARY:[Annulé] L’HFR en route vers l’avenir > Gurmels
CLASS:PUBLIC
DTSTAMP:20260419T124242Z
END:VEVENT
END:VCALENDAR