BEGIN:VCALENDAR
VERSION:2.0
PRODID:www.h-fr.ch
BEGIN:VEVENT
UID:69e51f9cd1d0d
DTSTART:20221005T190000Z
SEQUENCE:0
TRANSP:OPAQUE
DTEND:20221005T200000Z
SUMMARY:Cancer du sein - Prise en charge en physiothérapie
CLASS:PUBLIC
DTSTAMP:20260419T203156Z
END:VEVENT
END:VCALENDAR