BEGIN:VCALENDAR
VERSION:2.0
PRODID:www.h-fr.ch
BEGIN:VEVENT
UID:69ecc42719dbe
DTSTART:20260516T090000Z
SEQUENCE:0
TRANSP:OPAQUE
DTEND:20260516T180000Z
SUMMARY:Cours de préparation à la naissance – Premier enfant (1 journé
 e)
CLASS:PUBLIC
DTSTAMP:20260425T153951Z
END:VEVENT
END:VCALENDAR