BEGIN:VCALENDAR
VERSION:2.0
PRODID:www.h-fr.ch
BEGIN:VEVENT
UID:69e523d3939b1
DTSTART:20260105T180000Z
SEQUENCE:0
TRANSP:OPAQUE
DTEND:20260105T200000Z
SUMMARY:Cours de préparation à la naissance – Premier enfant (4 soirée
 s) – une soirée papa lors de la troisième rencontre
CLASS:PUBLIC
DTSTAMP:20260419T204955Z
END:VEVENT
END:VCALENDAR