BEGIN:VCALENDAR
VERSION:2.0
PRODID:www.h-fr.ch
BEGIN:VEVENT
UID:69ecc3e33463e
DTSTART:20260430T140000Z
SEQUENCE:0
TRANSP:OPAQUE
DTEND:20260430T160000Z
SUMMARY:Ateliers communs pour plus de joie de vivre
CLASS:PUBLIC
DTSTAMP:20260425T153843Z
END:VEVENT
END:VCALENDAR