BEGIN:VCALENDAR
VERSION:2.0
PRODID:www.h-fr.ch
BEGIN:VEVENT
UID:69df1828f02b2
DTSTART:20260427T071500Z
SEQUENCE:0
TRANSP:OPAQUE
DTEND:20260427T080500Z
SUMMARY:Formation postgraduée et continue spécifique en anesthésiologie
CLASS:PUBLIC
DTSTAMP:20260415T064632Z
END:VEVENT
END:VCALENDAR