BEGIN:VCALENDAR
VERSION:2.0
PRODID:www.h-fr.ch
BEGIN:VEVENT
UID:69eb2ef458daf
DTSTART:20230109T180000Z
SEQUENCE:0
TRANSP:OPAQUE
DTEND:20230109T200000Z
SUMMARY:Préparer la naissance de votre premier enfant (4 soirées)
CLASS:PUBLIC
DTSTAMP:20260424T105100Z
END:VEVENT
END:VCALENDAR