BEGIN:VCALENDAR
VERSION:2.0
PRODID:www.h-fr.ch
BEGIN:VEVENT
UID:69eb2f139a561
DTSTART:20221219T070500Z
SEQUENCE:0
TRANSP:OPAQUE
DTEND:20221219T075000Z
SUMMARY:Formation postgraduée et continue spécifique en anesthésiologie
CLASS:PUBLIC
DTSTAMP:20260424T105131Z
END:VEVENT
END:VCALENDAR